BEGIN:VCALENDAR
VERSION:2.0
PRODID:-//The Down East Partnership for Children - ECPv6.15.20//NONSGML v1.0//EN
CALSCALE:GREGORIAN
METHOD:PUBLISH
X-ORIGINAL-URL:https://depc.org
X-WR-CALDESC:Events for The Down East Partnership for Children
REFRESH-INTERVAL;VALUE=DURATION:PT1H
X-Robots-Tag:noindex
X-PUBLISHED-TTL:PT1H
BEGIN:VTIMEZONE
TZID:America/New_York
BEGIN:DAYLIGHT
TZOFFSETFROM:-0500
TZOFFSETTO:-0400
TZNAME:EDT
DTSTART:20230312T070000
END:DAYLIGHT
BEGIN:STANDARD
TZOFFSETFROM:-0400
TZOFFSETTO:-0500
TZNAME:EST
DTSTART:20231105T060000
END:STANDARD
BEGIN:DAYLIGHT
TZOFFSETFROM:-0500
TZOFFSETTO:-0400
TZNAME:EDT
DTSTART:20240310T070000
END:DAYLIGHT
BEGIN:STANDARD
TZOFFSETFROM:-0400
TZOFFSETTO:-0500
TZNAME:EST
DTSTART:20241103T060000
END:STANDARD
BEGIN:DAYLIGHT
TZOFFSETFROM:-0500
TZOFFSETTO:-0400
TZNAME:EDT
DTSTART:20250309T070000
END:DAYLIGHT
BEGIN:STANDARD
TZOFFSETFROM:-0400
TZOFFSETTO:-0500
TZNAME:EST
DTSTART:20251102T060000
END:STANDARD
END:VTIMEZONE
BEGIN:VEVENT
DTSTART;TZID=America/New_York:20240828T160000
DTEND;TZID=America/New_York:20240828T180000
DTSTAMP:20260422T075934
CREATED:20240607T150927Z
LAST-MODIFIED:20240607T150927Z
UID:5898-1724860800-1724868000@depc.org
SUMMARY:North Carolina Environmental Ratings Assessment Overview
DESCRIPTION:During the session\, an overall of each environmental ratings scale will be provided.  \nECERS-R (Preschool)                                                                                                                                   \nWednesday\, August 28\, 2024 @ 4:00 pm- 6:00 pm (In person training session)                     \nRegistration form must be received by Wednesday August 21\, 2024 \nDown East Partnership for Children/Board Room\n215 Lexington Street Rocky Mount NC \n(Capacity limited to 20) \n2 contact hours |Cost FREE per person
URL:https://depc.org/events/north-carolina-environmental-ratings-assessment-overview-4/
LOCATION:DEPC\, 215 Lexington Street\, Rocky Mount\, NC
CATEGORIES:Calendar,Home Page,Training
END:VEVENT
END:VCALENDAR