BEGIN:VCALENDAR
VERSION:2.0
PRODID:-//The Down East Partnership for Children - ECPv6.15.20//NONSGML v1.0//EN
CALSCALE:GREGORIAN
METHOD:PUBLISH
X-WR-CALNAME:The Down East Partnership for Children
X-ORIGINAL-URL:https://depc.org
X-WR-CALDESC:Events for The Down East Partnership for Children
REFRESH-INTERVAL;VALUE=DURATION:PT1H
X-Robots-Tag:noindex
X-PUBLISHED-TTL:PT1H
BEGIN:VTIMEZONE
TZID:America/New_York
BEGIN:DAYLIGHT
TZOFFSETFROM:-0500
TZOFFSETTO:-0400
TZNAME:EDT
DTSTART:20230312T070000
END:DAYLIGHT
BEGIN:STANDARD
TZOFFSETFROM:-0400
TZOFFSETTO:-0500
TZNAME:EST
DTSTART:20231105T060000
END:STANDARD
BEGIN:DAYLIGHT
TZOFFSETFROM:-0500
TZOFFSETTO:-0400
TZNAME:EDT
DTSTART:20240310T070000
END:DAYLIGHT
BEGIN:STANDARD
TZOFFSETFROM:-0400
TZOFFSETTO:-0500
TZNAME:EST
DTSTART:20241103T060000
END:STANDARD
BEGIN:DAYLIGHT
TZOFFSETFROM:-0500
TZOFFSETTO:-0400
TZNAME:EDT
DTSTART:20250309T070000
END:DAYLIGHT
BEGIN:STANDARD
TZOFFSETFROM:-0400
TZOFFSETTO:-0500
TZNAME:EST
DTSTART:20251102T060000
END:STANDARD
END:VTIMEZONE
BEGIN:VEVENT
DTSTART;TZID=America/New_York:20241112T180000
DTEND;TZID=America/New_York:20241112T200000
DTSTAMP:20260422T075513
CREATED:20240607T153907Z
LAST-MODIFIED:20240607T153907Z
UID:5908-1731434400-1731441600@depc.org
SUMMARY:Behavioral Intervention Strategies
DESCRIPTION:You want me to try what? O-S Teachers who care for children with behavioral difficulties\, often find themselves reacting in ways that reinforce the behavior and make it worse. Behavioral intervention strategies are planned responses to behaviors that help teachers prepare for situations in which past responses have not been successful. This session focuses on helping participants develop new responses to challenging behaviors using six key intervention strategies. \nTarget Audience: Infant & Toddler early childhood professionals \nTuesday November 12\, 2024 @ 6:00 pm – 8:00 pm (virtual training session)\nRegistration form and fee must be received by: Tuesday November 5\, 2024 \n(Capacity limited to 15) \n2 contact hours |Cost $5.00 per person \nTrainer: Shaquana Bynum\, Regional Healthy Social Behavioral Specialist
URL:https://depc.org/events/behavioral-intervention-strategies-2/
LOCATION:Virtual
CATEGORIES:Calendar,Home Page,Training
END:VEVENT
END:VCALENDAR