BEGIN:VCALENDAR
VERSION:2.0
PRODID:-//The Down East Partnership for Children - ECPv6.15.20//NONSGML v1.0//EN
CALSCALE:GREGORIAN
METHOD:PUBLISH
X-ORIGINAL-URL:https://depc.org
X-WR-CALDESC:Events for The Down East Partnership for Children
REFRESH-INTERVAL;VALUE=DURATION:PT1H
X-Robots-Tag:noindex
X-PUBLISHED-TTL:PT1H
BEGIN:VTIMEZONE
TZID:America/New_York
BEGIN:DAYLIGHT
TZOFFSETFROM:-0500
TZOFFSETTO:-0400
TZNAME:EDT
DTSTART:20230312T070000
END:DAYLIGHT
BEGIN:STANDARD
TZOFFSETFROM:-0400
TZOFFSETTO:-0500
TZNAME:EST
DTSTART:20231105T060000
END:STANDARD
BEGIN:DAYLIGHT
TZOFFSETFROM:-0500
TZOFFSETTO:-0400
TZNAME:EDT
DTSTART:20240310T070000
END:DAYLIGHT
BEGIN:STANDARD
TZOFFSETFROM:-0400
TZOFFSETTO:-0500
TZNAME:EST
DTSTART:20241103T060000
END:STANDARD
BEGIN:DAYLIGHT
TZOFFSETFROM:-0500
TZOFFSETTO:-0400
TZNAME:EDT
DTSTART:20250309T070000
END:DAYLIGHT
BEGIN:STANDARD
TZOFFSETFROM:-0400
TZOFFSETTO:-0500
TZNAME:EST
DTSTART:20251102T060000
END:STANDARD
END:VTIMEZONE
BEGIN:VEVENT
DTSTART;TZID=America/New_York:20241203T180000
DTEND;TZID=America/New_York:20241203T200000
DTSTAMP:20260422T092150
CREATED:20240607T154433Z
LAST-MODIFIED:20240607T154433Z
UID:5910-1733248800-1733256000@depc.org
SUMMARY:The Proactive Teacher; Beyond Managing Behaviors
DESCRIPTION:Educators of our youngest learners (infants and toddlers) can feel like they spend their days reacting to behavior. Participants will explore ways to create a positive learning environment that allows the children to be themselves\, take risks\, and accept responsibility for their actions. \n Target Audience: All Infant/ Toddler Early childhood professionals \nTuesday December 3\, 2024 @ 6:00 pm – 8:00 pm (virtual training session)                                                                      \nRegistration form and fee must be received by Tuesday November 26\, 2024 \n(Capacity limited to 25) \n2.0 contact hours |Cost $5.00 per person \n Trainer: Carrie Becker\, Transforming Early Childhood Education\, LLC  \n 
URL:https://depc.org/events/the-proactive-teacher-beyond-managing-behaviors/
LOCATION:Virtual
CATEGORIES:Calendar,Home Page,Training
END:VEVENT
END:VCALENDAR