BEGIN:VCALENDAR
VERSION:2.0
PRODID:-//The Down East Partnership for Children - ECPv6.15.20//NONSGML v1.0//EN
CALSCALE:GREGORIAN
METHOD:PUBLISH
X-ORIGINAL-URL:https://depc.org
X-WR-CALDESC:Events for The Down East Partnership for Children
REFRESH-INTERVAL;VALUE=DURATION:PT1H
X-Robots-Tag:noindex
X-PUBLISHED-TTL:PT1H
BEGIN:VTIMEZONE
TZID:America/New_York
BEGIN:DAYLIGHT
TZOFFSETFROM:-0500
TZOFFSETTO:-0400
TZNAME:EDT
DTSTART:20250309T070000
END:DAYLIGHT
BEGIN:STANDARD
TZOFFSETFROM:-0400
TZOFFSETTO:-0500
TZNAME:EST
DTSTART:20251102T060000
END:STANDARD
BEGIN:DAYLIGHT
TZOFFSETFROM:-0500
TZOFFSETTO:-0400
TZNAME:EDT
DTSTART:20260308T070000
END:DAYLIGHT
BEGIN:STANDARD
TZOFFSETFROM:-0400
TZOFFSETTO:-0500
TZNAME:EST
DTSTART:20261101T060000
END:STANDARD
BEGIN:DAYLIGHT
TZOFFSETFROM:-0500
TZOFFSETTO:-0400
TZNAME:EDT
DTSTART:20270314T070000
END:DAYLIGHT
BEGIN:STANDARD
TZOFFSETFROM:-0400
TZOFFSETTO:-0500
TZNAME:EST
DTSTART:20271107T060000
END:STANDARD
END:VTIMEZONE
BEGIN:VEVENT
DTSTART;TZID=America/New_York:20260317T160000
DTEND;TZID=America/New_York:20260317T180000
DTSTAMP:20260424T064025
CREATED:20260120T183628Z
LAST-MODIFIED:20260120T203605Z
UID:6496-1773763200-1773770400@depc.org
SUMMARY:Music Rituals: Routines\, Rhythm & Relaxation for Home and Classroom (Virtual)
DESCRIPTION:By beginning and ending the day with songs\, making tricky transitions a musical experience\, or using music when soothing or refocusing\, you can counteract children’s stress response in fun and engaging ways. In the process\, you build their trust\, confidence and self-discipline. Educators will learn WHY routines are important for children and why rituals are most helpful. HOW to create and implement music rituals throughout a child’s day to promote a happier\, more relaxed environment. \nAudience: Early Childhood Educators \nRegister: Tracy Pittman – tpittman@depc.org \nRegister by March 10\, 2026 \nFee: $5.00 per registrant (paid in form of cash\, check or money order made payable to Down East Partnership for Children) \nQuestions: Tracy L. Pittman – tpittman@depc.org or (252) 985-4300 ext. 204 \nInstructor: Kindermusik
URL:https://depc.org/events/music-rituals-for-home-and-classroom/
LOCATION:Virtual
CATEGORIES:Calendar,Home Page,Training
END:VEVENT
END:VCALENDAR