BEGIN:VCALENDAR
VERSION:2.0
PRODID:-//The Down East Partnership for Children - ECPv6.15.20//NONSGML v1.0//EN
CALSCALE:GREGORIAN
METHOD:PUBLISH
X-WR-CALNAME:The Down East Partnership for Children
X-ORIGINAL-URL:https://depc.org
X-WR-CALDESC:Events for The Down East Partnership for Children
REFRESH-INTERVAL;VALUE=DURATION:PT1H
X-Robots-Tag:noindex
X-PUBLISHED-TTL:PT1H
BEGIN:VTIMEZONE
TZID:America/New_York
BEGIN:DAYLIGHT
TZOFFSETFROM:-0500
TZOFFSETTO:-0400
TZNAME:EDT
DTSTART:20250309T070000
END:DAYLIGHT
BEGIN:STANDARD
TZOFFSETFROM:-0400
TZOFFSETTO:-0500
TZNAME:EST
DTSTART:20251102T060000
END:STANDARD
BEGIN:DAYLIGHT
TZOFFSETFROM:-0500
TZOFFSETTO:-0400
TZNAME:EDT
DTSTART:20260308T070000
END:DAYLIGHT
BEGIN:STANDARD
TZOFFSETFROM:-0400
TZOFFSETTO:-0500
TZNAME:EST
DTSTART:20261101T060000
END:STANDARD
BEGIN:DAYLIGHT
TZOFFSETFROM:-0500
TZOFFSETTO:-0400
TZNAME:EDT
DTSTART:20270314T070000
END:DAYLIGHT
BEGIN:STANDARD
TZOFFSETFROM:-0400
TZOFFSETTO:-0500
TZNAME:EST
DTSTART:20271107T060000
END:STANDARD
END:VTIMEZONE
BEGIN:VEVENT
DTSTART;TZID=America/New_York:20260420T100000
DTEND;TZID=America/New_York:20260420T120000
DTSTAMP:20260421T130841
CREATED:20251104T144355Z
LAST-MODIFIED:20251104T144355Z
UID:6450-1776679200-1776686400@depc.org
SUMMARY:DEPC Board Meeting
DESCRIPTION:For information regarding the Board Meeting\, please contact Karen Snead at ksnead@depc.org or Lori Winstead at lwinstead@depc.org\, or call 252-985-4300.
URL:https://depc.org/events/depc-board-meeting-18/
LOCATION:Virtual
CATEGORIES:Calendar,Events,Home Page
END:VEVENT
BEGIN:VEVENT
DTSTART;TZID=America/New_York:20260506T180000
DTEND;TZID=America/New_York:20260506T200000
DTSTAMP:20260421T130841
CREATED:20260120T204430Z
LAST-MODIFIED:20260120T204430Z
UID:6507-1778090400-1778097600@depc.org
SUMMARY:The Family Childcare Home: Multi-Age Math (Virtual)
DESCRIPTION:This session assists family childcare providers in supporting the children in their care. Participants will gain tools\, strategies\, and ideas for exploring math in the multi-age classroom. \nRegister by 4/29/26 \nCost: $5.00 \nInstructor: Carrie Becker\, Private Trainer
URL:https://depc.org/events/the-family-childcare-home-multi-age-math-virtual/
LOCATION:Virtual
CATEGORIES:Calendar,Home Page,Training
END:VEVENT
BEGIN:VEVENT
DTSTART;TZID=America/New_York:20260518T100000
DTEND;TZID=America/New_York:20260518T120000
DTSTAMP:20260421T130841
CREATED:20251104T144501Z
LAST-MODIFIED:20251104T144501Z
UID:6451-1779098400-1779105600@depc.org
SUMMARY:DEPC Board Meeting
DESCRIPTION:For information regarding the Board Meeting\, please contact Karen Snead at ksnead@depc.org or Lori Winstead at lwinstead@depc.org\, or call 252-985-4300.
URL:https://depc.org/events/depc-board-meeting-19/
LOCATION:Virtual
CATEGORIES:Calendar,Events,Home Page
END:VEVENT
BEGIN:VEVENT
DTSTART;TZID=America/New_York:20260519T180000
DTEND;TZID=America/New_York:20260519T190000
DTSTAMP:20260421T130841
CREATED:20260120T204803Z
LAST-MODIFIED:20260120T204803Z
UID:6508-1779213600-1779217200@depc.org
SUMMARY:Teacher Self-Care: Taking Care of Your Nervous System (Virtual)
DESCRIPTION:It is important to remember that self-care is daily practice and not a one-time event. During this workshop session\, participants will learn how to support their nervous systems through self-regulation \nRegister by 5/12/26 \nInstructor: Carrie Becker\, Private Trainer \nCost: $5.00
URL:https://depc.org/events/teacher-self-care-taking-care-of-your-nervous-system-virtual/
LOCATION:Virtual
CATEGORIES:Calendar,Home Page,Training
END:VEVENT
BEGIN:VEVENT
DTSTART;TZID=America/New_York:20260617T180000
DTEND;TZID=America/New_York:20260617T200000
DTSTAMP:20260421T130841
CREATED:20260120T205830Z
LAST-MODIFIED:20260120T210238Z
UID:6509-1781719200-1781726400@depc.org
SUMMARY:ITS/SIDS (Virtual)
DESCRIPTION:This training will provide an overview of sudden infant death syndrome (SIDS). It will also highlight the risk factors and describe ways to reduce the risk of SIDS in childcare.  Participants will receive the needed information to create a Safe Sleep Policy\, learn about sleep waivers/documenting sleeping babies and updated research about SIDS.  Participants will also be walking through how to complete an unresponsive infant drill and the reason for doing them regularly. \nAudience: Infant/Toddler\, Early Childhood Educators \nRegister by 6/3/26 \nInstructor: Kimberly Gurganus\, Regional CCHC \nCost: $5.00
URL:https://depc.org/events/its-sids-virtual-9/
LOCATION:Virtual
CATEGORIES:Calendar,Home Page,Training
END:VEVENT
END:VCALENDAR